BEGIN:VCALENDAR
VERSION:2.0
PRODID:-//Mountain Shepherd Adventure School - ECPv5.3.0//NONSGML v1.0//EN
CALSCALE:GREGORIAN
METHOD:PUBLISH
X-WR-CALNAME:Mountain Shepherd Adventure School
X-ORIGINAL-URL:https://mountainshepherd.com
X-WR-CALDESC:Events for Mountain Shepherd Adventure School
BEGIN:VTIMEZONE
TZID:UTC
BEGIN:STANDARD
TZOFFSETFROM:+0000
TZOFFSETTO:+0000
TZNAME:UTC
DTSTART:20210101T000000
END:STANDARD
END:VTIMEZONE
BEGIN:VEVENT
DTSTART;VALUE=DATE:20210719
DTEND;VALUE=DATE:20210724
DTSTAMP:20260421T122224
CREATED:20201210T021847Z
LAST-MODIFIED:20201210T021847Z
UID:5139-1626652800-1627084799@mountainshepherd.com
SUMMARY:GEMS: Rock On
DESCRIPTION:
URL:https://mountainshepherd.com/event/gems-rock-on/
LOCATION:Mountain Shepherd Adventure School
END:VEVENT
END:VCALENDAR