BEGIN:VCALENDAR
VERSION:2.0
PRODID:-//Mountain Shepherd Adventure School - ECPv5.3.0//NONSGML v1.0//EN
CALSCALE:GREGORIAN
METHOD:PUBLISH
X-WR-CALNAME:Mountain Shepherd Adventure School
X-ORIGINAL-URL:https://mountainshepherd.com
X-WR-CALDESC:Events for Mountain Shepherd Adventure School
BEGIN:VTIMEZONE
TZID:UTC
BEGIN:STANDARD
TZOFFSETFROM:+0000
TZOFFSETTO:+0000
TZNAME:UTC
DTSTART:20210101T000000
END:STANDARD
END:VTIMEZONE
BEGIN:VEVENT
DTSTART;VALUE=DATE:20210107
DTEND;VALUE=DATE:20210108
DTSTAMP:20260423T001203
CREATED:20201210T022031Z
LAST-MODIFIED:20201210T022207Z
UID:5145-1609977600-1610063999@mountainshepherd.com
SUMMARY:Mount Regis
DESCRIPTION:
URL:https://mountainshepherd.com/event/mount-regis/
CATEGORIES:Leadership and Custom Courses
END:VEVENT
BEGIN:VEVENT
DTSTART;VALUE=DATE:20210108
DTEND;VALUE=DATE:20210110
DTSTAMP:20260423T001203
CREATED:20201210T022002Z
LAST-MODIFIED:20201210T022002Z
UID:5143-1610064000-1610236799@mountainshepherd.com
SUMMARY:Calvary Baptist Youth Group
DESCRIPTION:
URL:https://mountainshepherd.com/event/calvary-baptist-youth-group/
END:VEVENT
BEGIN:VEVENT
DTSTART;VALUE=DATE:20210116
DTEND;VALUE=DATE:20210118
DTSTAMP:20260423T001203
CREATED:20201210T020320Z
LAST-MODIFIED:20201210T020320Z
UID:5103-1610755200-1610927999@mountainshepherd.com
SUMMARY:Bushcraft
DESCRIPTION:
URL:https://mountainshepherd.com/event/bushcraft/
END:VEVENT
BEGIN:VEVENT
DTSTART;VALUE=DATE:20210123
DTEND;VALUE=DATE:20210125
DTSTAMP:20260423T001203
CREATED:20201210T014408Z
LAST-MODIFIED:20201210T014408Z
UID:5066-1611360000-1611532799@mountainshepherd.com
SUMMARY:Survival Essentials
DESCRIPTION:
URL:https://mountainshepherd.com/event/survival-essentials/
LOCATION:Mountain Shepherd Adventure School
END:VEVENT
END:VCALENDAR